28.500000000000000
0.0
0.0
-28.500000000000000
503253.00000000000
5046210.0000000000
