28.500000000000000
0.0
0.0
-28.500000000000000
515422.50000000000
5045013.0000000000
